BEGIN:VCALENDAR
VERSION:2.0
PRODID:-//Free Soil Township - ECPv6.15.20//NONSGML v1.0//EN
CALSCALE:GREGORIAN
METHOD:PUBLISH
X-WR-CALNAME:Free Soil Township
X-ORIGINAL-URL:https://freesoiltownship.org
X-WR-CALDESC:Events for Free Soil Township
REFRESH-INTERVAL;VALUE=DURATION:PT1H
X-Robots-Tag:noindex
X-PUBLISHED-TTL:PT1H
BEGIN:VTIMEZONE
TZID:UTC
BEGIN:STANDARD
TZOFFSETFROM:+0000
TZOFFSETTO:+0000
TZNAME:UTC
DTSTART:20250101T000000
END:STANDARD
END:VTIMEZONE
BEGIN:VEVENT
DTSTART;TZID=UTC:20260303T101500
DTEND;TZID=UTC:20260303T110000
DTSTAMP:20260421T141736
CREATED:20260118T044813Z
LAST-MODIFIED:20260118T044813Z
UID:2439-1772532900-1772535600@freesoiltownship.org
SUMMARY:March 2026 Board of Review Organizational Meeting
DESCRIPTION:
URL:https://freesoiltownship.org/event/march-2026-board-of-review-organizational-meeting/
LOCATION:Free Soil/Meade Firehall\, 2613 E. Michigan Street\, Free Soil\, 49411
CATEGORIES:Board of Review
END:VEVENT
BEGIN:VEVENT
DTSTART;TZID=UTC:20260309T133000
DTEND;TZID=UTC:20260309T193000
DTSTAMP:20260421T141736
CREATED:20260118T044934Z
LAST-MODIFIED:20260118T045147Z
UID:2441-1773063000-1773084600@freesoiltownship.org
SUMMARY:March 2026 Board of Review Meeting #1
DESCRIPTION:
URL:https://freesoiltownship.org/event/march-2026-board-of-review-meeting-1/
LOCATION:Free Soil/Meade Firehall\, 2613 E. Michigan Street\, Free Soil\, 49411
CATEGORIES:Board of Review
END:VEVENT
BEGIN:VEVENT
DTSTART;TZID=UTC:20260312T133000
DTEND;TZID=UTC:20260312T193000
DTSTAMP:20260421T141736
CREATED:20260118T045037Z
LAST-MODIFIED:20260118T045207Z
UID:2443-1773322200-1773343800@freesoiltownship.org
SUMMARY:March 2026 Board of Review Meeting #2
DESCRIPTION:
URL:https://freesoiltownship.org/event/march-2026-board-of-review-meeting-2/
LOCATION:Free Soil/Meade Firehall\, 2613 E. Michigan Street\, Free Soil\, 49411
CATEGORIES:Board of Review
END:VEVENT
BEGIN:VEVENT
DTSTART;TZID=UTC:20260327T100000
DTEND;TZID=UTC:20260327T103000
DTSTAMP:20260421T141736
CREATED:20260319T161016Z
LAST-MODIFIED:20260319T161016Z
UID:2473-1774605600-1774607400@freesoiltownship.org
SUMMARY:Election Commission Meeting
DESCRIPTION:
URL:https://freesoiltownship.org/event/election-commission-meeting/
LOCATION:Free Soil/Meade Firehall\, 2613 E. Michigan Street\, Free Soil\, 49411
CATEGORIES:Election
END:VEVENT
BEGIN:VEVENT
DTSTART;TZID=UTC:20260327T103000
DTEND;TZID=UTC:20260327T110000
DTSTAMP:20260421T141736
CREATED:20260319T161154Z
LAST-MODIFIED:20260319T161154Z
UID:2475-1774607400-1774609200@freesoiltownship.org
SUMMARY:Budget Meeting
DESCRIPTION:
URL:https://freesoiltownship.org/event/budget-meeting/
LOCATION:Free Soil/Meade Firehall\, 2613 E. Michigan Street\, Free Soil\, 49411
CATEGORIES:Budget
END:VEVENT
END:VCALENDAR