BEGIN:VCALENDAR
VERSION:2.0
PRODID:-//Free Soil Township - ECPv6.15.20//NONSGML v1.0//EN
CALSCALE:GREGORIAN
METHOD:PUBLISH
X-ORIGINAL-URL:https://freesoiltownship.org
X-WR-CALDESC:Events for Free Soil Township
REFRESH-INTERVAL;VALUE=DURATION:PT1H
X-Robots-Tag:noindex
X-PUBLISHED-TTL:PT1H
BEGIN:VTIMEZONE
TZID:UTC
BEGIN:STANDARD
TZOFFSETFROM:+0000
TZOFFSETTO:+0000
TZNAME:UTC
DTSTART:20230101T000000
END:STANDARD
END:VTIMEZONE
BEGIN:VEVENT
DTSTART;TZID=UTC:20240511T080000
DTEND;TZID=UTC:20240511T120000
DTSTAMP:20260420T014410
CREATED:20220302T222241Z
LAST-MODIFIED:20240229T051706Z
UID:1327-1715414400-1715428800@freesoiltownship.org
SUMMARY:TOWNSHIP CLEAN-UP DAY
DESCRIPTION:There will be a township cleanup day for residences of Free Soil and Meade Townships on the second Saturday in May from 8am – 12pm. \nRestrictions:  No tires\, No Freon \nFor residences of Free Soil and Meade Townships\, please bring residency verification with you.
URL:https://freesoiltownship.org/event/cleanup-day-2024/
LOCATION:Free Soil/Meade Firehall\, 2613 E. Michigan Street\, Free Soil\, 49411
END:VEVENT
END:VCALENDAR