BEGIN:VCALENDAR
VERSION:2.0
PRODID:-//Free Soil Township - ECPv6.15.20//NONSGML v1.0//EN
CALSCALE:GREGORIAN
METHOD:PUBLISH
X-ORIGINAL-URL:https://freesoiltownship.org
X-WR-CALDESC:Events for Free Soil Township
REFRESH-INTERVAL;VALUE=DURATION:PT1H
X-Robots-Tag:noindex
X-PUBLISHED-TTL:PT1H
BEGIN:VTIMEZONE
TZID:UTC
BEGIN:STANDARD
TZOFFSETFROM:+0000
TZOFFSETTO:+0000
TZNAME:UTC
DTSTART:20260101T000000
END:STANDARD
END:VTIMEZONE
BEGIN:VEVENT
DTSTART;TZID=UTC:20270315T193000
DTEND;TZID=UTC:20270315T200000
DTSTAMP:20260422T225556
CREATED:20221120T041338Z
LAST-MODIFIED:20260319T181637Z
UID:1857-1805139000-1805140800@freesoiltownship.org
SUMMARY:MARCH 2027 BOARD MEETING
DESCRIPTION:To view the archive of our previous meeting minutes\, click HERE. \nTo contact our Township Board\, click HERE. \nMEETING ADJOURNMENT TIMES MAY VARY. 
URL:https://freesoiltownship.org/event/march-2027-board-meeting/
LOCATION:Free Soil/Meade Firehall\, 2613 E. Michigan Street\, Free Soil\, 49411
CATEGORIES:Regular Meeting
END:VEVENT
END:VCALENDAR