BEGIN:VCALENDAR
VERSION:2.0
PRODID:-//Free Soil Township - ECPv6.15.20//NONSGML v1.0//EN
CALSCALE:GREGORIAN
METHOD:PUBLISH
X-WR-CALNAME:Free Soil Township
X-ORIGINAL-URL:https://freesoiltownship.org
X-WR-CALDESC:Events for Free Soil Township
REFRESH-INTERVAL;VALUE=DURATION:PT1H
X-Robots-Tag:noindex
X-PUBLISHED-TTL:PT1H
BEGIN:VTIMEZONE
TZID:UTC
BEGIN:STANDARD
TZOFFSETFROM:+0000
TZOFFSETTO:+0000
TZNAME:UTC
DTSTART:20250101T000000
END:STANDARD
END:VTIMEZONE
BEGIN:VEVENT
DTSTART;TZID=UTC:20260817T193000
DTEND;TZID=UTC:20260817T200000
DTSTAMP:20260420T034830
CREATED:20230223T005251Z
LAST-MODIFIED:20260319T180916Z
UID:1984-1786995000-1786996800@freesoiltownship.org
SUMMARY:AUGUST 2026 BOARD MEETING
DESCRIPTION:To view the archive of our previous meeting minutes\, click HERE. \nTo contact our Township Board\, click HERE. \nMEETING ADJOURNMENT TIMES MAY VARY. 
URL:https://freesoiltownship.org/event/august-2026-board-meeting/
LOCATION:Free Soil/Meade Firehall\, 2613 E. Michigan Street\, Free Soil\, 49411
CATEGORIES:Regular Meeting
END:VEVENT
BEGIN:VEVENT
DTSTART;TZID=UTC:20260921T193000
DTEND;TZID=UTC:20260921T200000
DTSTAMP:20260420T034830
CREATED:20230223T005532Z
LAST-MODIFIED:20260319T181007Z
UID:1992-1790019000-1790020800@freesoiltownship.org
SUMMARY:SEPTEMBER 2026 BOARD MEETING
DESCRIPTION:To view the archive of our previous meeting minutes\, click HERE. \nTo contact our Township Board\, click HERE. \nMEETING ADJOURNMENT TIMES MAY VARY. 
URL:https://freesoiltownship.org/event/september-2026-board-meeting/
LOCATION:Free Soil/Meade Firehall\, 2613 E. Michigan Street\, Free Soil\, 49411
CATEGORIES:Regular Meeting
END:VEVENT
BEGIN:VEVENT
DTSTART;TZID=UTC:20261019T193000
DTEND;TZID=UTC:20261019T200000
DTSTAMP:20260420T034830
CREATED:20230223T005622Z
LAST-MODIFIED:20260319T181056Z
UID:1994-1792438200-1792440000@freesoiltownship.org
SUMMARY:OCTOBER 2026 BOARD MEETING
DESCRIPTION:To view the archive of our previous meeting minutes\, click HERE. \nTo contact our Township Board\, click HERE. \nMEETING ADJOURNMENT TIMES MAY VARY. 
URL:https://freesoiltownship.org/event/october-2026-board-meeting/
LOCATION:Free Soil/Meade Firehall\, 2613 E. Michigan Street\, Free Soil\, 49411
CATEGORIES:Regular Meeting
END:VEVENT
BEGIN:VEVENT
DTSTART;TZID=UTC:20261116T193000
DTEND;TZID=UTC:20261116T200000
DTSTAMP:20260420T034830
CREATED:20230223T005708Z
LAST-MODIFIED:20260319T181145Z
UID:1996-1794857400-1794859200@freesoiltownship.org
SUMMARY:NOVEMBER 2026 BOARD MEETING
DESCRIPTION:To view the archive of our previous meeting minutes\, click HERE. \nTo contact our Township Board\, click HERE. \nMEETING ADJOURNMENT TIMES MAY VARY. 
URL:https://freesoiltownship.org/event/november-2026-board-meeting/
LOCATION:Free Soil/Meade Firehall\, 2613 E. Michigan Street\, Free Soil\, 49411
CATEGORIES:Regular Meeting
END:VEVENT
BEGIN:VEVENT
DTSTART;TZID=UTC:20261215T101500
DTEND;TZID=UTC:20261215T110000
DTSTAMP:20260420T034830
CREATED:20260118T045510Z
LAST-MODIFIED:20260118T045510Z
UID:2449-1797329700-1797332400@freesoiltownship.org
SUMMARY:December 2026 Board of Review Meeting
DESCRIPTION:
URL:https://freesoiltownship.org/event/december-2026-board-of-review-meeting/
LOCATION:Free Soil/Meade Firehall\, 2613 E. Michigan Street\, Free Soil\, 49411
CATEGORIES:Board of Review
END:VEVENT
BEGIN:VEVENT
DTSTART;TZID=UTC:20261221T193000
DTEND;TZID=UTC:20261221T200000
DTSTAMP:20260420T034830
CREATED:20230223T005751Z
LAST-MODIFIED:20260319T181234Z
UID:1998-1797881400-1797883200@freesoiltownship.org
SUMMARY:DECEMBER 2026 BOARD MEETING
DESCRIPTION:To view the archive of our previous meeting minutes\, click HERE. \nTo contact our Township Board\, click HERE. \nMEETING ADJOURNMENT TIMES MAY VARY. 
URL:https://freesoiltownship.org/event/december-2026-board-meeting/
LOCATION:Free Soil/Meade Firehall\, 2613 E. Michigan Street\, Free Soil\, 49411
CATEGORIES:Regular Meeting
END:VEVENT
BEGIN:VEVENT
DTSTART;TZID=UTC:20270118T193000
DTEND;TZID=UTC:20270118T200000
DTSTAMP:20260420T034830
CREATED:20221120T040735Z
LAST-MODIFIED:20260319T181340Z
UID:1850-1800300600-1800302400@freesoiltownship.org
SUMMARY:JANUARY 2027 BOARD MEETING
DESCRIPTION:To view this month’s meeting agenda\, click HERE. \nTo view the archive of our previous meeting minutes\, click HERE. \nTo contact our Township Board\, click HERE. \nMEETING ADJOURNMENT TIMES MAY VARY. 
URL:https://freesoiltownship.org/event/january-2027-board-meeting/
LOCATION:Free Soil Township Hall\, 2691 E. Michigan Street\, Free Soil\, MI\, 49411\, United States
CATEGORIES:Regular Meeting
END:VEVENT
BEGIN:VEVENT
DTSTART;TZID=UTC:20270215T193000
DTEND;TZID=UTC:20270215T200000
DTSTAMP:20260420T034830
CREATED:20221120T041210Z
LAST-MODIFIED:20260319T181432Z
UID:1855-1802719800-1802721600@freesoiltownship.org
SUMMARY:FEBRUARY 2027 BOARD MEETING
DESCRIPTION:To view this month’s meeting agenda\, click HERE. \nTo view the archive of our previous meeting minutes\, click HERE. \nTo contact our Township Board\, click HERE. \nMEETING ADJOURNMENT TIMES MAY VARY. 
URL:https://freesoiltownship.org/event/february-2027-board-meeting/
LOCATION:Free Soil Township Hall\, 2691 E. Michigan Street\, Free Soil\, MI\, 49411\, United States
CATEGORIES:Regular Meeting
END:VEVENT
BEGIN:VEVENT
DTSTART;TZID=UTC:20270315T193000
DTEND;TZID=UTC:20270315T200000
DTSTAMP:20260420T034830
CREATED:20221120T041338Z
LAST-MODIFIED:20260319T181637Z
UID:1857-1805139000-1805140800@freesoiltownship.org
SUMMARY:MARCH 2027 BOARD MEETING
DESCRIPTION:To view the archive of our previous meeting minutes\, click HERE. \nTo contact our Township Board\, click HERE. \nMEETING ADJOURNMENT TIMES MAY VARY. 
URL:https://freesoiltownship.org/event/march-2027-board-meeting/
LOCATION:Free Soil/Meade Firehall\, 2613 E. Michigan Street\, Free Soil\, 49411
CATEGORIES:Regular Meeting
END:VEVENT
END:VCALENDAR