BEGIN:VCALENDAR
VERSION:2.0
PRODID:-//Free Soil Township - ECPv6.15.20//NONSGML v1.0//EN
CALSCALE:GREGORIAN
METHOD:PUBLISH
X-WR-CALNAME:Free Soil Township
X-ORIGINAL-URL:https://freesoiltownship.org
X-WR-CALDESC:Events for Free Soil Township
REFRESH-INTERVAL;VALUE=DURATION:PT1H
X-Robots-Tag:noindex
X-PUBLISHED-TTL:PT1H
BEGIN:VTIMEZONE
TZID:UTC
BEGIN:STANDARD
TZOFFSETFROM:+0000
TZOFFSETTO:+0000
TZNAME:UTC
DTSTART:20210101T000000
END:STANDARD
END:VTIMEZONE
BEGIN:VEVENT
DTSTART;TZID=UTC:20221212T190000
DTEND;TZID=UTC:20221212T193000
DTSTAMP:20260423T215309
CREATED:20220302T224207Z
LAST-MODIFIED:20221120T041506Z
UID:1352-1670871600-1670873400@freesoiltownship.org
SUMMARY:DECEMBER 2022 PLANNING COMMISSION MEETING
DESCRIPTION:***THIS IS A TESTMOSE DATE\, SCHEDULE NEEDED*** \nTo contact our Township Board\, click HERE.
URL:https://freesoiltownship.org/event/december-2022-planning-board-meeting/
LOCATION:Free Soil Township Hall\, 2691 E. Michigan Street\, Free Soil\, MI\, 49411\, United States
END:VEVENT
END:VCALENDAR